BEGIN:VCALENDAR
VERSION:2.0
PRODID:Events Booking
BEGIN:VEVENT
UID:69e63f1935ea8
SUMMARY:Evidence-Based Professionals Workshops and Conference - Sept. 18-20
 \, 2013\, San Diego\, CA
DESCRIPTION:Evidence-Based Organizations\, Practitioners\, Programs Impleme
 ntation &amp\; Supervision for Successful Client Outcomes
 Register 4 for
  Price of 3.&nbsp\; Only $675 ea.
LOCATION:Hilton San Diego Mission Valley\, 901 Camino del Rio S\, San Diego
 \, CA 92108\, USA
DTSTART:20130918T040000Z
DTEND:20130920T040000Z
DTSTAMP:20260420T145833Z
ORGANIZER;CN=Yvette Hughes:MAILTO:yhughes@ebphub.com
GEO:32.763685;-117.156201
X-APPLE-STRUCTURED-LOCATION;VALUE=URI;X-ADDRESS=Hilton San Diego Mission Va
 lley\, 901 Camino del Rio S\, San Diego\, CA 92108\, USA;X-APPLE-RADIUS=72
 ;X-TITLE=Hilton San Diego Mission Valley Hotel\, San Diego\, CA\, USA:32.7
 63685;-117.156201
END:VEVENT
END:VCALENDAR