BEGIN:VCALENDAR
VERSION:2.0
PRODID:Events Booking
BEGIN:VEVENT
UID:69e67a53d435c
SUMMARY:The Evidence-Based Workshops & Conference: Case Management - SPRING
  '14 - (3-Day | CE Training Hours - 20)
DESCRIPTION:
 Evidence Based Models and Supports for Effective Case Manage
 ment and Care Coordination
 
  
LOCATION:2 Poydras St. New Orleans\, LA 70130
DTSTART:20140318T040000Z
DTEND:20140320T040000Z
DTSTAMP:20260420T191115Z
ORGANIZER;CN=Yvette Hughes:MAILTO:yhughes@ebphub.com
GEO:29.946398;-90.065917
X-APPLE-STRUCTURED-LOCATION;VALUE=URI;X-ADDRESS=2 Poydras St. New Orleans\,
  LA 70130;X-APPLE-RADIUS=72;X-TITLE=Hilton New Orleans Riverside:29.946398
 ;-90.065917
END:VEVENT
END:VCALENDAR