BEGIN:VCALENDAR
VERSION:2.0
PRODID:Events Booking
BEGIN:VEVENT
UID:69e67a790241b
SUMMARY:Evidence-Based \"PATHWAYS\" for Case Management\, Care Coordination
  & Supervision - (2-Day | CE Training Hours - 13)
DESCRIPTION:
LOCATION:Hilton San Diego Mission Valley\, 901 Camino del Rio S\, San Diego
 \, CA 92108\, USA
DTSTART:20171130T133000Z
DTEND:20171201T203000Z
DTSTAMP:20260420T191153Z
ORGANIZER;CN=Yvette Hughes:MAILTO:yhughes@ebphub.com
GEO:32.763685;-117.156201
X-APPLE-STRUCTURED-LOCATION;VALUE=URI;X-ADDRESS=Hilton San Diego Mission Va
 lley\, 901 Camino del Rio S\, San Diego\, CA 92108\, USA;X-APPLE-RADIUS=72
 ;X-TITLE=Hilton San Diego Mission Valley Hotel\, San Diego\, CA\, USA:32.7
 63685;-117.156201
END:VEVENT
END:VCALENDAR