BEGIN:VCALENDAR
VERSION:2.0
PRODID:Events Booking
BEGIN:VEVENT
UID:69e63e5849631
SUMMARY:Motivational Interviewing: Core Skills for Durable Behavioral Chang
 e (2-Day | 13 CE Training Hours) - Fargo\, ND
DESCRIPTION:
LOCATION:3316 13th Ave S\, Fargo\, ND 58103\, USA
DTSTART:20170829T123000Z
DTEND:20170830T193000Z
DTSTAMP:20260420T145520Z
ORGANIZER;CN=Yvette Hughes:MAILTO:yhughes@ebphub.com
GEO:46.861126;-96.834077
X-APPLE-STRUCTURED-LOCATION;VALUE=URI;X-ADDRESS=3316 13th Ave S\, Fargo\, N
 D 58103\, USA;X-APPLE-RADIUS=72;X-TITLE=County Inn & Suites By Carlson\, F
 argo\, North Dakota:46.861126;-96.834077
END:VEVENT
END:VCALENDAR