BEGIN:VCALENDAR
VERSION:2.0
PRODID:Events Booking
BEGIN:VEVENT
UID:69e67925216ee
SUMMARY:State of Nebraska EBP Training Manual
DESCRIPTION:Training Manual Purchase
DTSTART:20171211T133000Z
DTEND:20171214T203000Z
DTSTAMP:20260420T190613Z
ORGANIZER;CN=Yvette Hughes:MAILTO:yhughes@ebphub.com
END:VEVENT
END:VCALENDAR