BEGIN:VCALENDAR
VERSION:2.0
PRODID:Events Booking
BEGIN:VEVENT
UID:69e63f37b3733
SUMMARY:Working With Youth: Evidence-based & Strength-centered Approaches -
  March 13-14\, 2014 Miami\, FL\, USA
DESCRIPTION:Prevention &amp\; Treatment of Adolescent Delinquency\, Substan
 ce Use &amp\; Criminal Conduct
 Register 4 or more at same time - Pay Onl
 y $675 ea.
 &nbsp\;
LOCATION:240 Coliseum Dr\, Macon\, GA 31217\, USA
DTSTART:20140313T123000Z
DTEND:20140314T193000Z
DTSTAMP:20260420T145903Z
ORGANIZER;CN=Yvette Hughes:MAILTO:yhughes@ebphub.com
GEO:32.842725;-83.618101
X-APPLE-STRUCTURED-LOCATION;VALUE=URI;X-ADDRESS=240 Coliseum Dr\, Macon\, G
 A 31217\, USA;X-APPLE-RADIUS=72;X-TITLE=Macon Marriott City Center:32.8427
 25;-83.618101
END:VEVENT
END:VCALENDAR