BEGIN:VCALENDAR
VERSION:2.0
PRODID:Events Booking
BEGIN:VEVENT
UID:69e67a629c67c
SUMMARY:Evidence-Based \"PATHWAYS\" for Case Management\, Care Coordination
  & Supervision - (3-Day | CE Training Hours - 20)
DESCRIPTION:
LOCATION:300 Canal St\, New Orleans\, LA 70130\, USA
DTSTART:20180425T123000Z
DTEND:20180427T193000Z
DTSTAMP:20260420T191130Z
ORGANIZER;CN=Yvette Hughes:MAILTO:yhughes@ebphub.com
GEO:29.950623;-90.066117
X-APPLE-STRUCTURED-LOCATION;VALUE=URI;X-ADDRESS=300 Canal St\, New Orleans\
 , LA 70130\, USA;X-APPLE-RADIUS=72;X-TITLE=DoubleTree by Hilton Hotel New 
 Orleans:29.950623;-90.066117
END:VEVENT
END:VCALENDAR