BEGIN:VCALENDAR
VERSION:2.0
PRODID:Events Booking
BEGIN:VEVENT
UID:69e63ec37ac7f
SUMMARY:Breakthrough NOW! 4-Step Pathway to YOUR Personal Success!
DESCRIPTION:
LOCATION:At your desktop or smart device.
DTSTART:20180215T180000Z
DTEND:20180215T193000Z
DTSTAMP:20260420T145707Z
ORGANIZER;CN=Yvette Hughes:MAILTO:yhughes@ebphub.com
END:VEVENT
END:VCALENDAR