BEGIN:VCALENDAR
VERSION:2.0
PRODID:Events Booking
BEGIN:VEVENT
UID:69e63ef691da8
SUMMARY:Motivational Interviewing: Core Skills for Durable Behavioral Chang
 e - (2-Day | CE Training Hours - 13)
DESCRIPTION:
LOCATION:Birmingham\, AL\, USA
DTSTART:20171012T123000Z
DTEND:20171013T193000Z
DTSTAMP:20260420T145758Z
ORGANIZER;CN=Yvette Hughes:MAILTO:yhughes@ebphub.com
GEO:33.520661;-86.80249
X-APPLE-STRUCTURED-LOCATION;VALUE=URI;X-ADDRESS=Birmingham\, AL\, USA;X-APP
 LE-RADIUS=72;X-TITLE=Birmingham\, Alabama:33.520661;-86.80249
END:VEVENT
END:VCALENDAR