BEGIN:VCALENDAR
VERSION:2.0
PRODID:Events Booking
BEGIN:VEVENT
UID:69e63ed4052a6
SUMMARY:What does it mean to be evidence-based\, and how you can become one
 ... (Wed. June 13\, 4 PM)
DESCRIPTION:
  
LOCATION:At your desktop or smart device.
DTSTART:20180613T200000Z
DTEND:20180613T200000Z
DTSTAMP:20260420T145724Z
ORGANIZER;CN=Yvette Hughes:MAILTO:yhughes@ebphub.com
END:VEVENT
END:VCALENDAR