BEGIN:VCALENDAR
VERSION:2.0
PRODID:Events Booking
BEGIN:VEVENT
UID:69e63ed37d079
SUMMARY:What does it mean to be evidence-based\, and how you can become one
 ... (Fri. June 15\, 4 PM)
DESCRIPTION:
  
LOCATION:At your desktop or smart device.
DTSTART:20180615T180000Z
DTEND:20180615T180000Z
DTSTAMP:20260420T145723Z
ORGANIZER;CN=Yvette Hughes:MAILTO:yhughes@ebphub.com
END:VEVENT
END:VCALENDAR