BEGIN:VCALENDAR
VERSION:2.0
PRODID:Events Booking
BEGIN:VEVENT
UID:69e63f373b116
SUMMARY:What does it mean to be evidence-based\, and how you can become one
 ...(Thur. June 14\, 4 PM)
DESCRIPTION:
  
LOCATION:At your desktop or smart device.
DTSTART:20180614T200000Z
DTEND:20180614T200000Z
DTSTAMP:20260420T145903Z
ORGANIZER;CN=Yvette Hughes:MAILTO:yhughes@ebphub.com
END:VEVENT
END:VCALENDAR