BEGIN:VCALENDAR
VERSION:2.0
PRODID:Events Booking
BEGIN:VEVENT
UID:69e63c80312fc
SUMMARY:Evidence-Based \"PATHWAYS\" for Case Management\, Care Coordination
  & Supervision - (2-Day | CE Training Hours - 13)
DESCRIPTION:
LOCATION:7450 Hazard Center Dr\, San Diego\, CA 92108\, USA
DTSTART:20181129T133000Z
DTEND:20181130T203000Z
DTSTAMP:20260420T144728Z
ORGANIZER;CN=Yvette Hughes:MAILTO:yhughes@ebphub.com
GEO:32.76989;-117.160206
X-APPLE-STRUCTURED-LOCATION;VALUE=URI;X-ADDRESS=7450 Hazard Center Dr\, San
  Diego\, CA 92108\, USA;X-APPLE-RADIUS=72;X-TITLE=DoubleTree by Hilton Hot
 el\, San Diego-Mission Valley\, CA\, USA:32.76989;-117.160206
END:VEVENT
END:VCALENDAR