BEGIN:VCALENDAR
VERSION:2.0
PRODID:Events Booking
BEGIN:VEVENT
UID:69e63f111853c
SUMMARY:What does it mean to be evidence-based... (Tue. July 17\, 2 PM)
DESCRIPTION:
  
LOCATION:At your desktop or smart device.
DTSTART:20180717T180000Z
DTEND:20180717T180000Z
DTSTAMP:20260420T145825Z
ORGANIZER;CN=Yvette Hughes:MAILTO:yhughes@ebphub.com
END:VEVENT
END:VCALENDAR