BEGIN:VCALENDAR
VERSION:2.0
PRODID:Events Booking
BEGIN:VEVENT
UID:69e63ef77dded
SUMMARY:What does it mean to be evidence-based... (Thu. July 19\, 2 PM)
DESCRIPTION:
  
LOCATION:At your desktop or smart device.
DTSTART:20180719T180000Z
DTEND:20180719T180000Z
DTSTAMP:20260420T145759Z
ORGANIZER;CN=Yvette Hughes:MAILTO:yhughes@ebphub.com
END:VEVENT
END:VCALENDAR