BEGIN:VCALENDAR
VERSION:2.0
PRODID:Events Booking
BEGIN:VEVENT
UID:69e63c6175e09
SUMMARY:What does it mean to be evidence-based? (FREE Webinar)
DESCRIPTION:
 &nbsp\;
LOCATION:At your desktop or smart device.
DTSTART:20190614T160000Z
DTEND:20190614T163000Z
DTSTAMP:20260420T144657Z
ORGANIZER;CN=Yvette Hughes:MAILTO:yhughes@ebphub.com
END:VEVENT
END:VCALENDAR