BEGIN:VCALENDAR
VERSION:2.0
PRODID:Events Booking
BEGIN:VEVENT
UID:69e63f376efb9
SUMMARY:The Evidence-Based Workshops & Conference: Case Management - Octobe
 r 29-31\, 2014\, San Diego\, CA\, USA
DESCRIPTION:Models and Supports for Effective Care Coordination
 &nbsp\;
LOCATION:Hilton San Diego Mission Valley\, 901 Camino del Rio S\, San Diego
 \, CA 92108\, USA
DTSTART:20141029T040000Z
DTEND:20141031T040000Z
DTSTAMP:20260420T145903Z
ORGANIZER;CN=Yvette Hughes:MAILTO:yhughes@ebphub.com
GEO:32.763685;-117.156201
X-APPLE-STRUCTURED-LOCATION;VALUE=URI;X-ADDRESS=Hilton San Diego Mission Va
 lley\, 901 Camino del Rio S\, San Diego\, CA 92108\, USA;X-APPLE-RADIUS=72
 ;X-TITLE=Hilton San Diego Mission Valley Hotel\, San Diego\, CA\, USA:32.7
 63685;-117.156201
END:VEVENT
END:VCALENDAR