BEGIN:VCALENDAR
VERSION:2.0
PRODID:Events Booking
BEGIN:VEVENT
UID:69e63de46547e
SUMMARY:Certification for Evidence-Based Practitioners (CEBP): Core & Advan
 ce Skills for Direct Services
DESCRIPTION:
LOCATION:7450 Hazard Center Dr\, San Diego\, CA 92108\, USA
DTSTART:20181130T133000Z
DTEND:20181130T203000Z
DTSTAMP:20260420T145324Z
ORGANIZER;CN=Yvette Hughes:MAILTO:yhughes@ebphub.com
GEO:32.76989;-117.160206
X-APPLE-STRUCTURED-LOCATION;VALUE=URI;X-ADDRESS=7450 Hazard Center Dr\, San
  Diego\, CA 92108\, USA;X-APPLE-RADIUS=72;X-TITLE=DoubleTree by Hilton Hot
 el\, San Diego-Mission Valley\, CA\, USA:32.76989;-117.160206
END:VEVENT
END:VCALENDAR