BEGIN:VCALENDAR
VERSION:2.0
PRODID:Events Booking
BEGIN:VEVENT
UID:69e63c85f1dcf
SUMMARY:Evidence-Based Professionals Networking Group (EBPNG) Event
DESCRIPTION:You are invited to this networking event that kicks off the&nbs
 p\;Evidence-Based Pathways Conference&nbsp\;(yes\, you can attend even if 
 you're not going to the conference).
 Here are the details.When: Tuesday\
 , April 16th @ 6 pmWhere: Pelican Bar\, Sheraton Hotel
LOCATION:500 Canal Street New Orleans\, LA 70130\, USA
DTSTART:20190416T100000Z
DTEND:20190416T130000Z
DTSTAMP:20260420T144733Z
ORGANIZER;CN=Yvette Hughes:MAILTO:yhughes@ebphub.com
GEO:0;-90.066117
X-APPLE-STRUCTURED-LOCATION;VALUE=URI;X-ADDRESS=500 Canal Street New Orlean
 s\, LA 70130\, USA;X-APPLE-RADIUS=72;X-TITLE=Sheraton New Orleans Hotel:0;
 -90.066117
END:VEVENT
END:VCALENDAR