BEGIN:VCALENDAR
VERSION:2.0
PRODID:Events Booking
BEGIN:VEVENT
UID:69e63de4b5313
SUMMARY:Certification for Evidence-Based Practitioners (CEBP): Core & Advan
 ce Skills for Direct Services
DESCRIPTION:
LOCATION:500 Canal Street New Orleans\, LA 70130\, USA
DTSTART:20190426T123000Z
DTEND:20190426T193000Z
DTSTAMP:20260420T145324Z
ORGANIZER;CN=Yvette Hughes:MAILTO:yhughes@ebphub.com
GEO:0;-90.066117
X-APPLE-STRUCTURED-LOCATION;VALUE=URI;X-ADDRESS=500 Canal Street New Orlean
 s\, LA 70130\, USA;X-APPLE-RADIUS=72;X-TITLE=Sheraton New Orleans Hotel:0;
 -90.066117
END:VEVENT
END:VCALENDAR