BEGIN:VCALENDAR
VERSION:2.0
PRODID:Events Booking
BEGIN:VEVENT
UID:69e6433b7066f
SUMMARY:Evidence-Based \"PATHWAYS\" for Case Management\, Care Coordination
 \, Counseling & Supervision (3-Day | 20 CE Training Hours)
DESCRIPTION:
LOCATION:3900 S Las Vegas\, NV 89119
DTSTART:20191030T123000Z
DTEND:20191101T193000Z
DTSTAMP:20260420T151611Z
ORGANIZER;CN=Yvette Hughes:MAILTO:yhughes@ebphub.com
GEO:0;-84.369861
X-APPLE-STRUCTURED-LOCATION;VALUE=URI;X-ADDRESS=3900 S Las Vegas\, NV 89119
 ;X-APPLE-RADIUS=72;X-TITLE=Luxor Hotel\, Las Vegas\, Nevada:0;-84.369861
END:VEVENT
END:VCALENDAR