BEGIN:VCALENDAR
VERSION:2.0
PRODID:Events Booking
BEGIN:VEVENT
UID:69e63c3277ba4
SUMMARY:8th Annual Spring Citizen Reentry & Public Safety Workshops & Confe
 rence - SPRING '15 - (3-Day | CE Training Hours - 20)
DESCRIPTION:
 Evidence-Based Programs &amp\; Supports for Successful Trans
 itions to Community
 
 
LOCATION:3900 S Las Vegas\, NV 89119
DTSTART:20150421T123000Z
DTEND:20150424T193000Z
DTSTAMP:20260420T144610Z
ORGANIZER;CN=Yvette Hughes:MAILTO:yhughes@ebphub.com
GEO:0;-84.369861
X-APPLE-STRUCTURED-LOCATION;VALUE=URI;X-ADDRESS=3900 S Las Vegas\, NV 89119
 ;X-APPLE-RADIUS=72;X-TITLE=Luxor Hotel\, Las Vegas\, Nevada:0;-84.369861
END:VEVENT
END:VCALENDAR