BEGIN:VCALENDAR
VERSION:2.0
PRODID:Events Booking
BEGIN:VEVENT
UID:69e63cce3d8c7
SUMMARY:LGBTQ\, SOGIE\, Gender-Neutral\, Gender-Fluid\,  Pan-Sexual: An Int
 roduction to the Fundamentals
DESCRIPTION:
LOCATION:At your desktop or smart device.
DTSTART:20190523T170000Z
DTEND:20190523T183000Z
DTSTAMP:20260420T144846Z
ORGANIZER;CN=Yvette Hughes:MAILTO:yhughes@ebphub.com
END:VEVENT
END:VCALENDAR