BEGIN:VCALENDAR
VERSION:2.0
PRODID:Events Booking
BEGIN:VEVENT
UID:69e63c8032502
SUMMARY:Opioids: An Introduction for Professionals In Human\, Social & Just
 ice Services
DESCRIPTION:
LOCATION:At your desktop or smart device.
DTSTART:20190523T190000Z
DTEND:20190523T203000Z
DTSTAMP:20260420T144728Z
ORGANIZER;CN=Yvette Hughes:MAILTO:yhughes@ebphub.com
END:VEVENT
END:VCALENDAR