BEGIN:VCALENDAR
VERSION:2.0
PRODID:Events Booking
BEGIN:VEVENT
UID:69e63cd4029e0
SUMMARY:Working with Employees (& Succeeding): Core Skills for \"New & Less
  Tenured\" Supervisors and Managers - Online Webinar (CE Training Hours-1.
 5)
DESCRIPTION:
LOCATION:At your desktop or smart device.
DTSTART:20190529T170000Z
DTEND:20190529T183000Z
DTSTAMP:20260420T144852Z
ORGANIZER;CN=Yvette Hughes:MAILTO:yhughes@ebphub.com
END:VEVENT
END:VCALENDAR