BEGIN:VCALENDAR
VERSION:2.0
PRODID:Events Booking
BEGIN:VEVENT
UID:69e63e0fc0184
SUMMARY:Motivational Interviewing (MI): Core Skills for Durable Change to O
 ccur (CE Training Hours-1.5)
DESCRIPTION:
LOCATION:At your desktop or smart device.
DTSTART:20190628T170000Z
DTEND:20190628T183000Z
DTSTAMP:20260420T145407Z
ORGANIZER;CN=Yvette Hughes:MAILTO:yhughes@ebphub.com
END:VEVENT
END:VCALENDAR