BEGIN:VCALENDAR
VERSION:2.0
PRODID:Events Booking
BEGIN:VEVENT
UID:69e63e44c8591
SUMMARY:Evidence-Based Housing for Homeless with Opioids and other Drugs' D
 isorders
DESCRIPTION:
LOCATION:At your desktop or smart device.
DTSTART:20190612T160000Z
DTEND:20190612T163000Z
DTSTAMP:20260420T145500Z
ORGANIZER;CN=Yvette Hughes:MAILTO:yhughes@ebphub.com
END:VEVENT
END:VCALENDAR