BEGIN:VCALENDAR
VERSION:2.0
PRODID:Events Booking
BEGIN:VEVENT
UID:69e63e4434c9b
SUMMARY:How to Motivate Employees: Core Skills-2 for \"More Tenured\" Super
 visors and Managers - Online Webinar (CE Training Hours-1.5)
DESCRIPTION:
LOCATION:At your desktop or smart device.
DTSTART:20190626T170000Z
DTEND:20190626T183000Z
DTSTAMP:20260420T145500Z
ORGANIZER;CN=Yvette Hughes:MAILTO:yhughes@ebphub.com
END:VEVENT
END:VCALENDAR