BEGIN:VCALENDAR
VERSION:2.0
PRODID:Events Booking
BEGIN:VEVENT
UID:69e63c42b61b7
SUMMARY:Certification in Evidence-Based Leadership (CEBL)
DESCRIPTION:
LOCATION:500 Canal Street New Orleans\, LA 70130\, USA
DTSTART:20190625T040000Z
DTEND:20190625T040000Z
DTSTAMP:20260420T144626Z
ORGANIZER;CN=Yvette Hughes:MAILTO:yhughes@ebphub.com
GEO:0;-90.066117
X-APPLE-STRUCTURED-LOCATION;VALUE=URI;X-ADDRESS=500 Canal Street New Orlean
 s\, LA 70130\, USA;X-APPLE-RADIUS=72;X-TITLE=Sheraton New Orleans Hotel:0;
 -90.066117
END:VEVENT
END:VCALENDAR