BEGIN:VCALENDAR
VERSION:2.0
PRODID:Events Booking
BEGIN:VEVENT
UID:69e63e458237d
SUMMARY:Employee Performance Reviews: How To Prep\, Write & Deliver\, On-Ti
 me Appraisals Every Time! - Online Webinar (CE Training Hours-1.5)
DESCRIPTION:
LOCATION:At your desktop or smart device.
DTSTART:20190717T170000Z
DTEND:20190717T183000Z
DTSTAMP:20260420T145501Z
ORGANIZER;CN=Yvette Hughes:MAILTO:yhughes@ebphub.com
END:VEVENT
END:VCALENDAR