BEGIN:VCALENDAR
VERSION:2.0
PRODID:Events Booking
BEGIN:VEVENT
UID:69e63c62b3990
SUMMARY:Want to be an Evidence-Based Practitioner? Learn the Essential Elem
 ents for the Professional (FREE Webinar)
DESCRIPTION:
LOCATION:At your desktop or smart device.
DTSTART:20190719T180000Z
DTEND:20190719T183000Z
DTSTAMP:20260420T144658Z
ORGANIZER;CN=Yvette Hughes:MAILTO:yhughes@ebphub.com
END:VEVENT
END:VCALENDAR