BEGIN:VCALENDAR
VERSION:2.0
PRODID:Events Booking
BEGIN:VEVENT
UID:69e63c809610a
SUMMARY:Evidence-Based Case Management Approaches for Effective Outcomes (C
 E Training Hours-1.5)
DESCRIPTION:
LOCATION:At your desktop or smart device.
DTSTART:20200814T170000Z
DTEND:20200814T183000Z
DTSTAMP:20260420T144728Z
ORGANIZER;CN=Yvette Hughes:MAILTO:yhughes@ebphub.com
END:VEVENT
END:VCALENDAR