BEGIN:VCALENDAR
VERSION:2.0
PRODID:Events Booking
BEGIN:VEVENT
UID:69e63e444fea4
SUMMARY:Employee Performance Reviews: How To Prep\, Write & Deliver\, On-Ti
 me Appraisals Every Time! - Online Webinar (CE Training Hours-1.5)
DESCRIPTION:
LOCATION:At your desktop or smart device.
DTSTART:20191114T180000Z
DTEND:20191114T193000Z
DTSTAMP:20260420T145500Z
ORGANIZER;CN=Yvette Hughes:MAILTO:yhughes@ebphub.com
END:VEVENT
END:VCALENDAR