BEGIN:VCALENDAR
VERSION:2.0
PRODID:Events Booking
BEGIN:VEVENT
UID:69e63ccd4475e
SUMMARY:How to Motivate Employees: Advance Skills for \"More Tenured\" Supe
 rvisors and Managers - Online Webinar (CE Training Hours-1.5)
DESCRIPTION:
LOCATION:At your desktop or smart device.
DTSTART:20200317T170000Z
DTEND:20200317T183000Z
DTSTAMP:20260420T144845Z
ORGANIZER;CN=Yvette Hughes:MAILTO:yhughes@ebphub.com
END:VEVENT
END:VCALENDAR