BEGIN:VCALENDAR
VERSION:2.0
PRODID:Events Booking
BEGIN:VEVENT
UID:69e63e5736f3b
SUMMARY:Certification as an Evidence-Based Practitioner (CEBP) Masterclass:
  Core & Advance Skills Pathways - 09/11/2019
DESCRIPTION:Certified Evidence-Based Practitioner (CEBP)
LOCATION:Pigeon Forge\, TN
DTSTART:20190911T123000Z
DTEND:20190911T193000Z
DTSTAMP:20260420T145519Z
ORGANIZER;CN=Yvette Hughes:MAILTO:yhughes@ebphub.com
END:VEVENT
END:VCALENDAR