BEGIN:VCALENDAR
VERSION:2.0
PRODID:Events Booking
BEGIN:VEVENT
UID:69e63e54b6b6a
SUMMARY:Certification as an Evidence-Based Practitioner (CEBP) - 11/1/2019
DESCRIPTION:Certified Evidence-Based Practitioner (CEBP)
LOCATION:3900 S Las Vegas\, NV 89119
DTSTART:20191101T123000Z
DTEND:20191101T193000Z
DTSTAMP:20260420T145516Z
ORGANIZER;CN=Yvette Hughes:MAILTO:yhughes@ebphub.com
GEO:0;-84.369861
X-APPLE-STRUCTURED-LOCATION;VALUE=URI;X-ADDRESS=3900 S Las Vegas\, NV 89119
 ;X-APPLE-RADIUS=72;X-TITLE=Luxor Hotel\, Las Vegas\, Nevada:0;-84.369861
END:VEVENT
END:VCALENDAR