BEGIN:VCALENDAR
VERSION:2.0
PRODID:Events Booking
BEGIN:VEVENT
UID:69e63c867e452
SUMMARY:Evidence Based Employment Focused Workshops and Conference for Huma
 n Services - March 24-27\, 2015 - New Orleans\, LA\, USA
DESCRIPTION:Strategy and Tactics for Durable Sustainable Outcomes 
 
DTSTART:20150324T123000Z
DTEND:20150327T193000Z
DTSTAMP:20260420T144734Z
ORGANIZER;CN=Yvette Hughes:MAILTO:yhughes@ebphub.com
END:VEVENT
END:VCALENDAR