BEGIN:VCALENDAR
VERSION:2.0
PRODID:Events Booking
BEGIN:VEVENT
UID:69e63cd98e424
SUMMARY:Evidence-Based Case Management Approaches for Effective Outcomes (C
 E Training Hours-1.5)
DESCRIPTION:
LOCATION:At your desktop or smart device.
DTSTART:20191206T180000Z
DTEND:20191206T193000Z
DTSTAMP:20260420T144857Z
ORGANIZER;CN=Yvette Hughes:MAILTO:yhughes@ebphub.com
END:VEVENT
END:VCALENDAR