BEGIN:VCALENDAR
VERSION:2.0
PRODID:Events Booking
BEGIN:VEVENT
UID:69e63e0f9d6e9
SUMMARY:Working with Employees (& Succeeding): Core Skills for \"New & Less
  Tenured\" Supervisors and Managers - Online Webinar (CE Training Hours-1.
 5)
DESCRIPTION:
LOCATION:At your desktop or smart device.
DTSTART:20191126T180000Z
DTEND:20191126T193000Z
DTSTAMP:20260420T145407Z
ORGANIZER;CN=Yvette Hughes:MAILTO:yhughes@ebphub.com
END:VEVENT
END:VCALENDAR