BEGIN:VCALENDAR
VERSION:2.0
PRODID:Events Booking
BEGIN:VEVENT
UID:69e63c24f082d
SUMMARY:Evidence-Based Organization (EBO) \"MASTERCLASS\": Strategy & Tacti
 cs for Leadership & Sustainability (3-Day | 18 CE Training Hours)
DESCRIPTION:
LOCATION:At your desktop or smart device.
DTSTART:20200427T123000Z
DTEND:20200429T193000Z
DTSTAMP:20260420T144556Z
ORGANIZER;CN=Yvette Hughes:MAILTO:yhughes@ebphub.com
END:VEVENT
END:VCALENDAR