BEGIN:VCALENDAR
VERSION:2.0
PRODID:Events Booking
BEGIN:VEVENT
UID:69e63de46846b
SUMMARY:Evidence-Based \"PATHWAYS\" for Case Management\, Family Engagement
 \, Care Coordination\, Counseling & Supervision - Fri. 5/01/2020 (1-Day | 
 6 CE Training Hours)
DESCRIPTION:
LOCATION:At your desktop or smart device.
DTSTART:20200501T123000Z
DTEND:20200501T193000Z
DTSTAMP:20260420T145324Z
ORGANIZER;CN=Yvette Hughes:MAILTO:yhughes@ebphub.com
END:VEVENT
END:VCALENDAR