BEGIN:VCALENDAR
VERSION:2.0
PRODID:Events Booking
BEGIN:VEVENT
UID:69e63e5494d5d
SUMMARY:Motivational Interviewing: Core Skills for Durable Change (2-Day | 
 CE Training Hours - 13)
DESCRIPTION:Durable Change Through Intrinsic Motivation
 
DTSTART:20150521T123000Z
DTEND:20150522T193000Z
DTSTAMP:20260420T145516Z
ORGANIZER;CN=Yvette Hughes:MAILTO:yhughes@ebphub.com
END:VEVENT
END:VCALENDAR