BEGIN:VCALENDAR
VERSION:2.0
PRODID:Events Booking
BEGIN:VEVENT
UID:69e63ef69552f
SUMMARY:Drug Court Report: An Evaluation of Federal Support Court in Connec
 ticut (FREE Webinar - 11:00 PM - 12:30 PM EST)
DESCRIPTION:
LOCATION:At your desktop or smart device.
DTSTART:20200403T150000Z
DTEND:20200403T163000Z
DTSTAMP:20260420T145758Z
ORGANIZER;CN=Yvette Hughes:MAILTO:yhughes@ebphub.com
END:VEVENT
END:VCALENDAR