BEGIN:VCALENDAR
VERSION:2.0
PRODID:Events Booking
BEGIN:VEVENT
UID:69e63e82ab6d3
SUMMARY:Working With Youth: Evidence-based Programs & Supports - May 21-22\
 , 2015 - San Diego\, CA\, USA
DESCRIPTION:Prevention\, Management &amp\; Treatment of Adolescent Delinque
 ncy\, Substance Use &amp\; Criminal Conduct
 
DTSTART:20150521T123000Z
DTEND:20150522T193000Z
DTSTAMP:20260420T145602Z
ORGANIZER;CN=Yvette Hughes:MAILTO:yhughes@ebphub.com
END:VEVENT
END:VCALENDAR