BEGIN:VCALENDAR
VERSION:2.0
PRODID:Events Booking
BEGIN:VEVENT
UID:69e63e0f1bf18
SUMMARY:Working with Remote Customers: How To Provide Strength-Based Servic
 es in Virtual Settings - Online Webinar (CE Training Hours-1.5)
DESCRIPTION:
LOCATION:At your desktop or smart device.
DTSTART:20200326T193000Z
DTEND:20200326T210000Z
DTSTAMP:20260420T145407Z
ORGANIZER;CN=Yvette Hughes:MAILTO:yhughes@ebphub.com
END:VEVENT
END:VCALENDAR