BEGIN:VCALENDAR
VERSION:2.0
PRODID:Events Booking
BEGIN:VEVENT
UID:69e63c9071018
SUMMARY:Working With Remote Customers: How To Provide Strength-Based Servic
 es in Virtual Settings - Online Webinar (CE Training Hours-1.5)
DESCRIPTION:
LOCATION:At your desktop or smart device.
DTSTART:20200331T160000Z
DTEND:20200331T173000Z
DTSTAMP:20260420T144744Z
ORGANIZER;CN=Yvette Hughes:MAILTO:yhughes@ebphub.com
END:VEVENT
END:VCALENDAR