BEGIN:VCALENDAR
VERSION:2.0
PRODID:Events Booking
BEGIN:VEVENT
UID:69e64391d87e4
SUMMARY:Evidence-Based Organization (EBO) \"MASTERCLASS\": Strategy & Tacti
 cs for Leadership & Sustainability - Wed. 4/29/2020 (1-Day | 6 CE Training
  Hours)
DESCRIPTION:
LOCATION:At your desktop or smart device.
DTSTART:20200429T123000Z
DTEND:20200429T193000Z
DTSTAMP:20260420T151737Z
ORGANIZER;CN=Yvette Hughes:MAILTO:yhughes@ebphub.com
END:VEVENT
END:VCALENDAR