BEGIN:VCALENDAR
VERSION:2.0
PRODID:Events Booking
BEGIN:VEVENT
UID:69e67945e9afb
SUMMARY:Effective Employee Reviews - Sept 23rd\, 2016 - Online Webinar
DESCRIPTION:How To Prep\, Write and Deliver Accurate &amp\; Timely Performa
 nce Appraisals Every Time!
 
DTSTART:20160923T170000Z
DTEND:20160923T190000Z
DTSTAMP:20260420T190645Z
ORGANIZER;CN=Yvette Hughes:MAILTO:yhughes@ebphub.com
END:VEVENT
END:VCALENDAR