BEGIN:VCALENDAR
VERSION:2.0
PRODID:Events Booking
BEGIN:VEVENT
UID:69e63de64f391
SUMMARY:Evidence-Based \"PATHWAYS\" (MI-DAY) - Thur. 10/29/2020 (1-Day | 6 
 CE Training Hours)
DESCRIPTION:
LOCATION:At your desktop or smart device.
DTSTART:20201029T123000Z
DTEND:20201029T193000Z
DTSTAMP:20260420T145326Z
ORGANIZER;CN=Yvette Hughes:MAILTO:yhughes@ebphub.com
END:VEVENT
END:VCALENDAR