BEGIN:VCALENDAR
VERSION:2.0
PRODID:Events Booking
BEGIN:VEVENT
UID:69e63f3583ccb
SUMMARY:What does it mean to be evidence-based\, and how you can become one
 ...(Thur. October 1st\, 11 AM)
DESCRIPTION: 
  
LOCATION:At your desktop or smart device.
DTSTART:20201001T150000Z
DTEND:20201001T153000Z
DTSTAMP:20260420T145901Z
ORGANIZER;CN=Yvette Hughes:MAILTO:yhughes@ebphub.com
END:VEVENT
END:VCALENDAR